BEGIN:VCALENDAR
VERSION:2.0
PRODID:-//Over Puddleducks Pre-School - ECPv5.12.3//NONSGML v1.0//EN
CALSCALE:GREGORIAN
METHOD:PUBLISH
X-WR-CALNAME:Over Puddleducks Pre-School
X-ORIGINAL-URL:https://overpuddleducks.com
X-WR-CALDESC:Events for Over Puddleducks Pre-School
REFRESH-INTERVAL;VALUE=DURATION:PT1H
X-Robots-Tag:noindex
X-PUBLISHED-TTL:PT1H
BEGIN:VTIMEZONE
TZID:Europe/London
BEGIN:DAYLIGHT
TZOFFSETFROM:+0000
TZOFFSETTO:+0100
TZNAME:BST
DTSTART:20200329T010000
END:DAYLIGHT
BEGIN:STANDARD
TZOFFSETFROM:+0100
TZOFFSETTO:+0000
TZNAME:GMT
DTSTART:20201025T010000
END:STANDARD
END:VTIMEZONE
BEGIN:VEVENT
DTSTART;VALUE=DATE:20200727
DTEND;VALUE=DATE:20200902
DTSTAMP:20260426T035242
CREATED:20200813T112705Z
LAST-MODIFIED:20200813T122103Z
UID:144-1595808000-1599004799@overpuddleducks.com
SUMMARY:Summer Holidays
DESCRIPTION:Pre-School is closed
URL:https://overpuddleducks.com/event/autumn-term/
END:VEVENT
END:VCALENDAR