BEGIN:VCALENDAR
VERSION:2.0
PRODID:-//Over Puddleducks Pre-School - ECPv5.12.3//NONSGML v1.0//EN
CALSCALE:GREGORIAN
METHOD:PUBLISH
X-WR-CALNAME:Over Puddleducks Pre-School
X-ORIGINAL-URL:https://overpuddleducks.com
X-WR-CALDESC:Events for Over Puddleducks Pre-School
REFRESH-INTERVAL;VALUE=DURATION:PT1H
X-Robots-Tag:noindex
X-PUBLISHED-TTL:PT1H
BEGIN:VTIMEZONE
TZID:Europe/London
BEGIN:DAYLIGHT
TZOFFSETFROM:+0000
TZOFFSETTO:+0100
TZNAME:BST
DTSTART:20200329T010000
END:DAYLIGHT
BEGIN:STANDARD
TZOFFSETFROM:+0100
TZOFFSETTO:+0000
TZNAME:GMT
DTSTART:20201025T010000
END:STANDARD
BEGIN:DAYLIGHT
TZOFFSETFROM:+0000
TZOFFSETTO:+0100
TZNAME:BST
DTSTART:20210328T010000
END:DAYLIGHT
BEGIN:STANDARD
TZOFFSETFROM:+0100
TZOFFSETTO:+0000
TZNAME:GMT
DTSTART:20211031T010000
END:STANDARD
END:VTIMEZONE
BEGIN:VEVENT
DTSTART;TZID=Europe/London:20201218T080000
DTEND;TZID=Europe/London:20210104T170000
DTSTAMP:20260425T213646
CREATED:20231219T090013Z
LAST-MODIFIED:20230904T211825Z
UID:160-1608278400-1609779600@overpuddleducks.com
SUMMARY:Last Day of Term
DESCRIPTION:Pre-School is closed
URL:https://overpuddleducks.com/event/christmas-break/
END:VEVENT
END:VCALENDAR