BEGIN:VCALENDAR
VERSION:2.0
PRODID:-//Over Puddleducks Pre-School - ECPv5.12.3//NONSGML v1.0//EN
CALSCALE:GREGORIAN
METHOD:PUBLISH
X-WR-CALNAME:Over Puddleducks Pre-School
X-ORIGINAL-URL:https://overpuddleducks.com
X-WR-CALDESC:Events for Over Puddleducks Pre-School
REFRESH-INTERVAL;VALUE=DURATION:PT1H
X-Robots-Tag:noindex
X-PUBLISHED-TTL:PT1H
BEGIN:VTIMEZONE
TZID:Europe/London
BEGIN:DAYLIGHT
TZOFFSETFROM:+0000
TZOFFSETTO:+0100
TZNAME:BST
DTSTART:20200329T010000
END:DAYLIGHT
BEGIN:STANDARD
TZOFFSETFROM:+0100
TZOFFSETTO:+0000
TZNAME:GMT
DTSTART:20201025T010000
END:STANDARD
END:VTIMEZONE
BEGIN:VEVENT
DTSTART;VALUE=DATE:20200727
DTEND;VALUE=DATE:20200902
DTSTAMP:20260426T022647
CREATED:20200813T112705Z
LAST-MODIFIED:20200813T122103Z
UID:144-1595808000-1599004799@overpuddleducks.com
SUMMARY:Summer Holidays
DESCRIPTION:Pre-School is closed
URL:https://overpuddleducks.com/event/autumn-term/
END:VEVENT
BEGIN:VEVENT
DTSTART;VALUE=DATE:20200902
DTEND;VALUE=DATE:20200903
DTSTAMP:20260426T022647
CREATED:20200813T121127Z
LAST-MODIFIED:20200813T122046Z
UID:150-1599004800-1599091199@overpuddleducks.com
SUMMARY:Staff Training Day
DESCRIPTION:Pre-School is closed
URL:https://overpuddleducks.com/event/staff-training-day/
END:VEVENT
BEGIN:VEVENT
DTSTART;TZID=Europe/London:20200924T190000
DTEND;TZID=Europe/London:20200924T220000
DTSTAMP:20260426T022647
CREATED:20230912T180013Z
LAST-MODIFIED:20230904T212005Z
UID:139-1600974000-1600984800@overpuddleducks.com
SUMMARY:Over Puddleducks Committee AGM
DESCRIPTION:Due to the pandemic\, we will be hosting a virtual AGM meeting on the 24th of September 2020 via Zoom. The meeting will start at 7pm\, with a 30 minute causal meet and greet with proceedings starting around 7:30ish.  \nOn the night\, you can directly join the meeting by clicking here. \nOtherwise\, you can use the below credentials to join…\nMeeting ID: 930 3093 0124\nPasscode: 8aQxe1
URL:https://overpuddleducks.com/event/agm-meeting/
LOCATION:Zoom
END:VEVENT
END:VCALENDAR