BEGIN:VCALENDAR
VERSION:2.0
PRODID:-//Over Puddleducks Pre-School - ECPv5.12.3//NONSGML v1.0//EN
CALSCALE:GREGORIAN
METHOD:PUBLISH
X-WR-CALNAME:Over Puddleducks Pre-School
X-ORIGINAL-URL:https://overpuddleducks.com
X-WR-CALDESC:Events for Over Puddleducks Pre-School
REFRESH-INTERVAL;VALUE=DURATION:PT1H
X-Robots-Tag:noindex
X-PUBLISHED-TTL:PT1H
BEGIN:VTIMEZONE
TZID:Europe/London
BEGIN:DAYLIGHT
TZOFFSETFROM:+0000
TZOFFSETTO:+0100
TZNAME:BST
DTSTART:20210328T010000
END:DAYLIGHT
BEGIN:STANDARD
TZOFFSETFROM:+0100
TZOFFSETTO:+0000
TZNAME:GMT
DTSTART:20211031T010000
END:STANDARD
BEGIN:DAYLIGHT
TZOFFSETFROM:+0000
TZOFFSETTO:+0100
TZNAME:BST
DTSTART:20220327T010000
END:DAYLIGHT
BEGIN:STANDARD
TZOFFSETFROM:+0100
TZOFFSETTO:+0000
TZNAME:GMT
DTSTART:20221030T010000
END:STANDARD
END:VTIMEZONE
BEGIN:VEVENT
DTSTART;VALUE=DATE:20211215
DTEND;VALUE=DATE:20211216
DTSTAMP:20260423T021838
CREATED:20231220T093042Z
LAST-MODIFIED:20230904T211751Z
UID:372-1639526400-1639612799@overpuddleducks.com
SUMMARY:End of Term Celebration
DESCRIPTION:For those not in\, please have lunch at home and then arrive from 12:45pm party ready. Santa will be visiting at around 1pm.
URL:https://overpuddleducks.com/event/christmas-party-2/
END:VEVENT
BEGIN:VEVENT
DTSTART;VALUE=DATE:20211216
DTEND;VALUE=DATE:20220105
DTSTAMP:20260423T021838
CREATED:20231220T090029Z
LAST-MODIFIED:20230904T211710Z
UID:365-1639612800-1641340799@overpuddleducks.com
SUMMARY:Christmas Holidays Start
DESCRIPTION:Pre-School is closed
URL:https://overpuddleducks.com/event/christmas-break-2/
END:VEVENT
END:VCALENDAR