BEGIN:VCALENDAR
VERSION:2.0
PRODID:-//Over Puddleducks Pre-School - ECPv5.12.3//NONSGML v1.0//EN
CALSCALE:GREGORIAN
METHOD:PUBLISH
X-WR-CALNAME:Over Puddleducks Pre-School
X-ORIGINAL-URL:https://overpuddleducks.com
X-WR-CALDESC:Events for Over Puddleducks Pre-School
REFRESH-INTERVAL;VALUE=DURATION:PT1H
X-Robots-Tag:noindex
X-PUBLISHED-TTL:PT1H
BEGIN:VTIMEZONE
TZID:Europe/London
BEGIN:DAYLIGHT
TZOFFSETFROM:+0000
TZOFFSETTO:+0100
TZNAME:BST
DTSTART:20220327T010000
END:DAYLIGHT
BEGIN:STANDARD
TZOFFSETFROM:+0100
TZOFFSETTO:+0000
TZNAME:GMT
DTSTART:20221030T010000
END:STANDARD
BEGIN:DAYLIGHT
TZOFFSETFROM:+0000
TZOFFSETTO:+0100
TZNAME:BST
DTSTART:20230326T010000
END:DAYLIGHT
BEGIN:STANDARD
TZOFFSETFROM:+0100
TZOFFSETTO:+0000
TZNAME:GMT
DTSTART:20231029T010000
END:STANDARD
END:VTIMEZONE
BEGIN:VEVENT
DTSTART;VALUE=DATE:20221215
DTEND;VALUE=DATE:20230104
DTSTAMP:20260422T025333
CREATED:20220920T185108Z
LAST-MODIFIED:20220930T081246Z
UID:413-1671062400-1672790399@overpuddleducks.com
SUMMARY:Christmas Holidays
DESCRIPTION:
URL:https://overpuddleducks.com/event/christmas-holidays/
END:VEVENT
END:VCALENDAR